BEGIN:VCALENDAR
VERSION:2.0
PRODID:-//eventon.com NONSGML v1.0//EN
CALSCALE:GREGORIAN
METHOD:PUBLISH
BEGIN:VEVENT
UID:69ed45f36bf6b
DTSTAMP:20260425T225339Z
DTSTART:20250503
DTEND:20250504
LOCATION:Marit Bouwmeester Zeilcentrum Grou Wilhelminastraat 3\,  9001 KE\,  Grou
SUMMARY:Voorjaarswedstrijden
DESCRIPTION:Zeilwedstrijden voor alle open eenheidsklassen op Pikmeer en Wi
 jde EE\nhttps://kwvfrisia.nl/events/voorjaarswedstrijden-2/
URL:https://kwvfrisia.nl/events/voorjaarswedstrijden-2/
END:VEVENT
END:VCALENDAR